BEGIN:VCALENDAR
VERSION:2.0
PRODID:-//West Dunbartonshire CVS - ECPv6.15.20//NONSGML v1.0//EN
CALSCALE:GREGORIAN
METHOD:PUBLISH
X-WR-CALNAME:West Dunbartonshire CVS
X-ORIGINAL-URL:https://wdcvs.com
X-WR-CALDESC:Events for West Dunbartonshire CVS
REFRESH-INTERVAL;VALUE=DURATION:PT1H
X-Robots-Tag:noindex
X-PUBLISHED-TTL:PT1H
BEGIN:VTIMEZONE
TZID:Europe/London
BEGIN:DAYLIGHT
TZOFFSETFROM:+0000
TZOFFSETTO:+0100
TZNAME:BST
DTSTART:20250330T010000
END:DAYLIGHT
BEGIN:STANDARD
TZOFFSETFROM:+0100
TZOFFSETTO:+0000
TZNAME:GMT
DTSTART:20251026T010000
END:STANDARD
BEGIN:DAYLIGHT
TZOFFSETFROM:+0000
TZOFFSETTO:+0100
TZNAME:BST
DTSTART:20260329T010000
END:DAYLIGHT
BEGIN:STANDARD
TZOFFSETFROM:+0100
TZOFFSETTO:+0000
TZNAME:GMT
DTSTART:20261025T010000
END:STANDARD
BEGIN:DAYLIGHT
TZOFFSETFROM:+0000
TZOFFSETTO:+0100
TZNAME:BST
DTSTART:20270328T010000
END:DAYLIGHT
BEGIN:STANDARD
TZOFFSETFROM:+0100
TZOFFSETTO:+0000
TZNAME:GMT
DTSTART:20271031T010000
END:STANDARD
END:VTIMEZONE
BEGIN:VEVENT
DTSTART;TZID=Europe/London:20260422T140000
DTEND;TZID=Europe/London:20260422T153000
DTSTAMP:20260424T104241
CREATED:20260401T090100Z
LAST-MODIFIED:20260401T090350Z
UID:10001223-1776866400-1776871800@wdcvs.com
SUMMARY:Community Growing Networking Event
DESCRIPTION:A friendly networking session for community groups in West Dunbartonshire who have growing spaces and community gardens. \n\n\n\nThis event is a chance to:Share what you’re working on.Exchange ideas and learning.Discover local activities and projects.Explore opportunities to collaborate and grow together. \n\n\n\nCome along\, connect with others\, and help strengthen our local growing community! \n\n\n\nWhere: Arcadia Business Centre\, Clydebank\, G81 1UJ. \n\n\n\nWhen: Wednesday 22nd April\, 2-3:30pm. \n\n\n\nGet in touch to book a space… Contact Ruth on 0141 941 0886 or ruth@wdcvs.com \n\n\n\nTea\, coffee and biscuits will be provided. \n\n\n\n\n\n\n\n\n\nArcadia Business Centre\, Miller Lane\, Clydebank G81 1UJ\, Scotland
URL:https://wdcvs.com/event/community-growing-networking-event/
CATEGORIES:Climate Action Hub,Event
ATTACH;FMTTYPE=image/png:https://wdcvs.com/wp-content/uploads/2026/04/Community-Growing-Networking-Event.png
ORGANIZER;CN="WDCVS":MAILTO:info@wdcvs.com
END:VEVENT
BEGIN:VEVENT
DTSTART;TZID=Europe/London:20260330T100000
DTEND;TZID=Europe/London:20260330T110000
DTSTAMP:20260424T104241
CREATED:20251219T103557Z
LAST-MODIFIED:20251219T103602Z
UID:10001161-1774864800-1774868400@wdcvs.com
SUMMARY:Activity : Dumbarton Health & Social Walk
DESCRIPTION:The Dumbarton walk will be in Levengrove Park. \n\n\n\nThe walkers meet beside the Kilmahew Fountain just down from the main gate on Clydeshore Road. \n\n\n\nMany people think of walking as recreational and not really exercise\, but that daily walk can be hugely beneficial to your health – and it’s free to do!  \n\n\n\nTaking part in one of the many Health and Social Walks across West Dunbartonshire will help you get out and about\, meet new people and socialise with friends and family\, all at the same time.    \n\n\n\nWe are lucky to have a wealth of local parks and green spaces where we can walk safely and comfortably\, but it’s equally important to take the opportunity to walk a bit more wherever we are.  \n\n\n\n\n\n\n\n\n\nLevenford Terrace\, Dumbarton\, Scotland
URL:https://wdcvs.com/event/activity-dumbarton-health-social-walk-2/2026-03-30/
CATEGORIES:Activity,Event
ATTACH;FMTTYPE=image/png:https://wdcvs.com/wp-content/uploads/2024/07/EVENT-Calendar.png
ORGANIZER;CN="Health Walks West Dunbartonshire":MAILTO:walking@wdcvs.com
END:VEVENT
BEGIN:VEVENT
DTSTART;TZID=Europe/London:20260323T100000
DTEND;TZID=Europe/London:20260323T110000
DTSTAMP:20260424T104241
CREATED:20251219T103557Z
LAST-MODIFIED:20251219T103602Z
UID:10001160-1774260000-1774263600@wdcvs.com
SUMMARY:Activity : Dumbarton Health & Social Walk
DESCRIPTION:The Dumbarton walk will be in Levengrove Park. \n\n\n\nThe walkers meet beside the Kilmahew Fountain just down from the main gate on Clydeshore Road. \n\n\n\nMany people think of walking as recreational and not really exercise\, but that daily walk can be hugely beneficial to your health – and it’s free to do!  \n\n\n\nTaking part in one of the many Health and Social Walks across West Dunbartonshire will help you get out and about\, meet new people and socialise with friends and family\, all at the same time.    \n\n\n\nWe are lucky to have a wealth of local parks and green spaces where we can walk safely and comfortably\, but it’s equally important to take the opportunity to walk a bit more wherever we are.  \n\n\n\n\n\n\n\n\n\nLevenford Terrace\, Dumbarton\, Scotland
URL:https://wdcvs.com/event/activity-dumbarton-health-social-walk-2/2026-03-23/
CATEGORIES:Activity,Event
ATTACH;FMTTYPE=image/png:https://wdcvs.com/wp-content/uploads/2024/07/EVENT-Calendar.png
ORGANIZER;CN="Health Walks West Dunbartonshire":MAILTO:walking@wdcvs.com
END:VEVENT
END:VCALENDAR