BEGIN:VCALENDAR
VERSION:2.0
PRODID:-//West Dunbartonshire CVS - ECPv6.15.20//NONSGML v1.0//EN
CALSCALE:GREGORIAN
METHOD:PUBLISH
X-WR-CALNAME:West Dunbartonshire CVS
X-ORIGINAL-URL:https://wdcvs.com
X-WR-CALDESC:Events for West Dunbartonshire CVS
REFRESH-INTERVAL;VALUE=DURATION:PT1H
X-Robots-Tag:noindex
X-PUBLISHED-TTL:PT1H
BEGIN:VTIMEZONE
TZID:Europe/London
BEGIN:DAYLIGHT
TZOFFSETFROM:+0000
TZOFFSETTO:+0100
TZNAME:BST
DTSTART:20250330T010000
END:DAYLIGHT
BEGIN:STANDARD
TZOFFSETFROM:+0100
TZOFFSETTO:+0000
TZNAME:GMT
DTSTART:20251026T010000
END:STANDARD
BEGIN:DAYLIGHT
TZOFFSETFROM:+0000
TZOFFSETTO:+0100
TZNAME:BST
DTSTART:20260329T010000
END:DAYLIGHT
BEGIN:STANDARD
TZOFFSETFROM:+0100
TZOFFSETTO:+0000
TZNAME:GMT
DTSTART:20261025T010000
END:STANDARD
BEGIN:DAYLIGHT
TZOFFSETFROM:+0000
TZOFFSETTO:+0100
TZNAME:BST
DTSTART:20270328T010000
END:DAYLIGHT
BEGIN:STANDARD
TZOFFSETFROM:+0100
TZOFFSETTO:+0000
TZNAME:GMT
DTSTART:20271031T010000
END:STANDARD
END:VTIMEZONE
BEGIN:VEVENT
DTSTART;TZID=Europe/London:20260507T110000
DTEND;TZID=Europe/London:20260507T140000
DTSTAMP:20260420T123829
CREATED:20260413T150103Z
LAST-MODIFIED:20260413T150133Z
UID:10001279-1778151600-1778162400@wdcvs.com
SUMMARY:Spring Into Volunteering – The Phoenix
DESCRIPTION:Drop in for a coffee and have a casual conversation about volunteering—no presentations\, no commitments\, just a chance to connect\, explore volunteer roles\, and see what might suit you. Bring your curiosity and we’ll take it from there. \n\n\n\nThe Phoenix – Thursday 7th May @ 11.00 – 2.00pm \n\n\n\n\n\n\n\n\n\n7A Quarry Knowe\, Dumbarton\, Scotland
URL:https://wdcvs.com/event/spring-into-volunteering-the-phoenix/
CATEGORIES:Event
ATTACH;FMTTYPE=image/png:https://wdcvs.com/wp-content/uploads/2026/04/Website-Diary-Spring-Into-Volunteering-1.png
ORGANIZER;CN="WDCVS":MAILTO:info@wdcvs.com
END:VEVENT
BEGIN:VEVENT
DTSTART;TZID=Europe/London:20260513T100000
DTEND;TZID=Europe/London:20260513T120000
DTSTAMP:20260420T123829
CREATED:20260324T134306Z
LAST-MODIFIED:20260324T134310Z
UID:10001222-1778666400-1778673600@wdcvs.com
SUMMARY:Training Suite 3 – Improving Chairing Skills
DESCRIPTION:Training Suite Part 3 \n\n\n\nThis session is designed to increase awareness of the role of the chair\, creating a checklist\, putting your learning into practice and empower individual chairs to review their personal performance and identify areas for improvement. \n\n\n\nContact info@wdcvs.com to book a place \n\n\n\n\n\n\n\n\n\nArcadia Business Centre\, Miller Lane\, Clydebank G81 1UJ\, Scotland
URL:https://wdcvs.com/event/training-suite-3-improving-chairing-skills-4/
CATEGORIES:Event,Training
ATTACH;FMTTYPE=image/png:https://wdcvs.com/wp-content/uploads/2026/02/Part-3.png
ORGANIZER;CN="WDCVS":MAILTO:info@wdcvs.com
END:VEVENT
BEGIN:VEVENT
DTSTART;TZID=Europe/London:20260515T120000
DTEND;TZID=Europe/London:20260515T140000
DTSTAMP:20260420T123829
CREATED:20260414T075710Z
LAST-MODIFIED:20260414T080554Z
UID:10001281-1778846400-1778853600@wdcvs.com
SUMMARY:Spring Into Volunteering - Hope Community Church
DESCRIPTION:Drop in for a coffee and have a casual conversation about volunteering—no presentations\, no commitments\, just a chance to connect\, explore volunteer roles\, and see what might suit you.  \n\n\n\nBring your curiosity and we’ll take it from there. \n\n\n\nHope church – Friday 15th May 12 – 2.00 pm \n\n\n\n\n\n\n\n\n\n30 Shelley Drive\, Clydebank\, Scotland
URL:https://wdcvs.com/event/spring-into-volunteering-hope-community-church/
CATEGORIES:Event
ATTACH;FMTTYPE=image/png:https://wdcvs.com/wp-content/uploads/2026/04/Website-Diary-Spring-Into-Volunteering-1.png
ORGANIZER;CN="WDCVS":MAILTO:info@wdcvs.com
END:VEVENT
END:VCALENDAR